BEGIN:VCALENDAR
VERSION:2.0
PRODID:icalendar-ruby
CALSCALE:GREGORIAN
BEGIN:VEVENT
DTSTAMP:20260424T122255Z
UID:38f4c1f8-f087-474a-86f0-5e5c3d7dc7c5
DTSTART:20261018T110000
DTEND:20261018T180000
DESCRIPTION:Großer Flohmarkt zum verkaufsoffenen Sonntag! Platzvergabe ab 
 7 Uhr morgens! Unser Mitarbeiter zeigt Ihnen Ihren Standplatz! Fahrzeug ko
 stenlos am Stand! Standmiete beträgt € 10\,- pro Meter! Bezahlung vor O
 rt! Jeder kann ohne Anmeldung mitmachen! Einfach vorbeikommen! Es gibt gen
 ug Platz für alle!\nDer Markt findet bei jedem Wetter statt!\nTisch\, Stu
 hl\, etc. bitte selbst mitbringen!\nBis dann!\n \nJetzt neu: Besuche www.
 gerosflohmarkt.de und verkaufe kostenlos Deine Sachen online!\nGerosFlohma
 rkt.de - Flohmärkte und kostenlose Kleinanzeigen!
LOCATION:Nikolaus-Otto-Straße 25 70771 Echterdingen
SUMMARY:L.E.- Echterdingen\, OBI\, Riesen- Sonntagsflohmarkt! Findet statt!
  Ohne Anmeldung! Einfach vorbeikommen!
END:VEVENT
END:VCALENDAR
