BEGIN:VCALENDAR
VERSION:2.0
PRODID:icalendar-ruby
CALSCALE:GREGORIAN
BEGIN:VEVENT
DTSTAMP:20260424T203912Z
UID:c7d880b5-b62f-454f-a4ba-4b104816a0fc
DTSTART:20260918T120000
DTEND:20260918T180000
DESCRIPTION:Großer Trödelmarkt : 18.-20.September 2026\, \n \nMit viele
 n Händlern veranstaltet die "daCapo-Agentur" den nächsten 3-tägigen Ant
 ik- und Trödelmarkt am Freitag\, Samstag\, und Sonntag \, 18.-20.Septembe
 r 2026 \,  auf dem Turnplatz an der B246 (Brandenburger Str.23\, 14806 Ba
 d Belzig)\n \nFreitags : 12-18 Uhr\nSamstags : 9-17 Uhr\nSonntags : 9-17 
 Uhr\nTrödelhändler von Hannover über Berlin bis Leipzig \, aber auch au
 s der hiesigen Region bieten umfangreiche Sammlerstücke und Raritäten zu
 m Kauf.\nÜbernachtungen der Händler im Fahrzeug gestattet. Händlerfahr
 zeuge immer direkt am Stand!\nUnterboden : grüne feste Wiese\nKostenfreie
  Besucher-Parkplätze sind in unmittelbarer Nähe vorhanden\, kostenfrei. 
 Kein Eintrritt\, keine Gebühren ...alles umsonst.\n \nHändlerstandgeld 
 : 10\,00 €/m/Tag (FR/SA/SO)\nStrom kostet 10\,00 Euro/Tag \, bei Bedarf 
 bitte vorher anmelden !\nEintritt frei !!! Parken frei !!!\nStand kann auf
 gebaut stehen bleiben\, Sicherheit ist durch Wachschutz gewährleistet. F
 ür Wetterschäden jedoch keine Haftung!\nNachtruhe ist grundsätzlich ab 
 22.00 Uhr bis 6.00 Uhr ! Aufbauen der Stände in dieser Zeit ist nicht ges
 tattet\, ebenso das Abspielen lauter Musik auf dem Platz! Es gilt die Mark
 tordnung 2026 der "daCapo-Agentur" Standort: Bad Belzig\nAufbau: Donnersta
 g ab 15 Uhr oder FR ab 8-11 Uhr und SA/SO jeweils ab 6-8 Uhr \nDie Markt-
 Verkaufszeiten sind von jedem Händler strikt vollständig 9-17 Uhr einzuh
 alten.\nBitte vorher per Whatsapp anmelden! (0177/7994791)\nAchtung ! Best
 ellungen und Stornierungen sind auch bei uns\, und wie bei anderen Veranst
 altern immer kostenpflichtig. Daher bitte immer erst dann anmelden\, wenn 
 Sie zu 100% wissen\, dass Sie auch wirklich teilnehmen können. Ansonsten 
 blockieren Sie nur unnötig die Händlerplätze. Ansonsten stellen wir dan
 n eine Bearbeitungsgebühr von 20\,00 € in Rechnung.\nFür das leibliche
  Wohl wird mit einem umfangreichen Angebot gesorgt. \nAchtung! Keine Neuw
 are anbieten! Achtung! : keine reinen 1 Euro-Kisten-Händler !\n \nAnmeld
 ungen sind möglich unter:\nTel: 03494/6670883\nHandy/Whatsapp: 0177/79947
 91\noder per Mail: info@dacapo-agentur.de\nwww.dacapo-agentur.de
LOCATION:Brandenburger Straße 23 14806 
SUMMARY:"Antik- &amp\; Trödelmarkt" Bad Belzig\, Turnplatz\, 3 Tage tröde
 ln ! 18.-20.September 2026
END:VEVENT
END:VCALENDAR
