BEGIN:VCALENDAR
VERSION:2.0
PRODID:icalendar-ruby
CALSCALE:GREGORIAN
BEGIN:VEVENT
DTSTAMP:20260420T130946Z
UID:4dd56d5c-77ea-4a46-a97d-b9b853a094ac
DTSTART:20261115T110000
DTEND:20261115T160000
DESCRIPTION:Auf der Automania werden neben Modellautos in allen Ausführung
 en\nund Maßstäben auch Baumaschinen\, Slotcars\, Pins\, Automobilia\nAut
 oliteratur angeboten. Alles Sammelwürdige rund um`s\nAuto findet sich in
  der Regel auf der Börse\, so dass für jedes\nSammelgebiet für jeden B
 esucher etwas dabei ist.
LOCATION:NSU-Straße 1 74172 
SUMMARY:AUTOMANIA Audi Forum Modellauto Sammlerbörse
END:VEVENT
END:VCALENDAR
