BEGIN:VCALENDAR
VERSION:2.0
PRODID:icalendar-ruby
CALSCALE:GREGORIAN
BEGIN:VEVENT
DTSTAMP:20260424T090830Z
UID:6bd2f9cd-1e16-4421-a93e-3b0d9e501f74
DTSTART:20261108T110000
DTEND:20261108T180000
DESCRIPTION:Großer Flohmarkt zum verkaufsoffenen Sonntag in Mühlacker! Je
 der kann ohne Anmeldung mitmachen! Einfach vorbeikommen! Es gibt genug Pla
 tz für alle! Platzvergabe ab 8 Uhr morgens! Unser Mitarbeiter zeigt Ihnen
  Ihren Standplatz! Die Standmiete beträgt € 9\,- pro Meter und wird vor
  Ort bezahlt! Fahrzeug bleibt kostenlos am Stand!\nBis dann!\nDer Markt fi
 ndet bei jedem Wetter statt!\nTisch\, Stuhl\, Kleiderstange etc. bitte sel
 bst mitbringen!\n \nJetzt neu: Besuche www.gerosflohmarkt.de und verkaufe
  kostenlos Deine Sachen online!\nGerosFlohmarkt.de - Flohmärkte und koste
 nlose Kleinanzeigen!
LOCATION:Bahnhofstraße 71 75417 
SUMMARY:Mühlacker\, Parkplatz REWE\, Sonntagsflohmarkt! Findet statt! ohne
  Anmeldung! Ohne Termin! Einfach vorbeikommen!
END:VEVENT
END:VCALENDAR
