BEGIN:VCALENDAR
VERSION:2.0
PRODID:icalendar-ruby
CALSCALE:GREGORIAN
BEGIN:VEVENT
DTSTAMP:20260421T073821Z
UID:9e6baa6d-ce89-4faf-abd6-ca9ac7e74716
DTSTART:20260524T110000
DTEND:20260524T170000
DESCRIPTION:Infos unter www.richter-troedelmaerkte.de oder 02843/9036903
LOCATION:Marktplatz 47226 DU-Rheinhausen
SUMMARY:Marktplatz
END:VEVENT
END:VCALENDAR
