BEGIN:VCALENDAR
VERSION:2.0
PRODID:icalendar-ruby
CALSCALE:GREGORIAN
BEGIN:VEVENT
DTSTAMP:20260421T055613Z
UID:a3dc3546-ec7f-4c24-b0cd-156307999b9e
DTSTART:20260525T110000
DTEND:20260525T170000
DESCRIPTION:Infos unter www.richter-troedelmaerkte.de oder 02843/9036903
LOCATION:Marktplatz 47226 DU-Rheinhausen
SUMMARY:Marktplatz
END:VEVENT
END:VCALENDAR
