BEGIN:VCALENDAR
VERSION:2.0
PRODID:icalendar-ruby
CALSCALE:GREGORIAN
BEGIN:VEVENT
DTSTAMP:20260420T123814Z
UID:791f0729-1ca9-40bb-b6b2-61dd92639a7a
DTSTART:20261025T110000
DTEND:20261025T160000
DESCRIPTION:"Mädels lieben Klamotten"Ganz unter diesem Motto findet ihr au
 f unserem Mädchenflohmarkt:Vintage Schätze\, Second Hand Klamotten\, Kin
 derbekleidung- und ausstattung\, Designerware\, Schuhe\, Schmuck und Acces
 soires.Ob alt\, ausrangiert\, geliebt\, zu klein\, zu groß\, bei uns find
 et jede Klamotte ein neues Zuhause.Wir bieten euch all das\, was das Mädc
 hen Herz begehrt.\nInfos zu Eintritts-/ sowie Ausstellerpreisen und das 
 Anmeldeformular findet Ihr unter www.maedchenklamotte.de ❤
LOCATION:Rosenstraße 50 90762 
SUMMARY:Mädchen Klamotte - Der Mädelsflohmarkt @Stadthalle Fürth
END:VEVENT
END:VCALENDAR
