BEGIN:VCALENDAR
VERSION:2.0
PRODID:icalendar-ruby
CALSCALE:GREGORIAN
BEGIN:VEVENT
DTSTAMP:20260421T121455Z
UID:78163319-f3bf-4a4a-bb82-beb9817741c8
DTSTART:20260517T110000
DTEND:20260517T160000
DESCRIPTION:"Mädels lieben Klamotten"Ganz unter diesem Motto findet ihr au
 f unserem Mädchenflohmarkt:Vintage Schätze\, Second Hand Klamotten\, Kin
 derbekleidung- und ausstattung\, Designerware\, Schuhe\, Schmuck und Acces
 soires.Ob alt\, ausrangiert\, geliebt\, zu klein\, zu groß\, bei uns find
 et jede Klamotte ein neues Zuhause.Wir bieten euch all das\, was das Mädc
 hen Herz begehrt.\nInfos zu Eintritts-/ sowie Ausstellerpreisen und das 
 Anmeldeformular findet Ihr unter www.maedchenklamotte.de ❤
LOCATION:Borsigallee 26 60388 Bergen-Enkheim
SUMMARY:Mädchen Klamotte - Der Mädelsflohmarkt @Hessen Center Frankfurt
END:VEVENT
END:VCALENDAR
