BEGIN:VCALENDAR
VERSION:2.0
PRODID:icalendar-ruby
CALSCALE:GREGORIAN
BEGIN:VEVENT
DTSTAMP:20260424T012723Z
UID:376ca388-ce77-491f-a2e3-f0d4814d30ac
DTSTART:20260913T080000
DTEND:20260913T160000
DESCRIPTION:Floh &amp\; Trödelmarkt auf dem Parkplatz der Firma Rewe in Bu
 benreuth.\nBekannter Platz - komplett asphaltiert - direkt an der A73.Trö
 del und Neuware erlaubt!!!Bruckwiesen 2-4\, 91088 Bubenreuth.Ein mega Plat
 z mit super Lage\nOnlinereservierung unter www.troedelteam-graage.de empfo
 hlen oder am Vortag von 20 bis 21 Uhr direkt am Platzoder Sonntag früh ab
  7 Uhr einfach kommen!\nTrödel:     5 Meter mit Auto oder Anhänger 3
 0\,00€Neuware: 5 Meter mit Auto oder Anhänger 40\,00€\nSie möchten e
 inen kleinen Stand:Je Meter Trödel 5\,00€ Je Meter Neuware 8\,00€\nGr
 undgebühr an Sonntags und Feiertagsmärkten pro Stand: 3 Euro\nTermindaue
 ransage: 0911 - 32 96 23Bei weiteren Fragen erreichen Sie uns unterThomas:
  0175 - 20 80 762 oder Dani: 0175 - 24 68 169 oder Lilli: 0171 - 79 41 826
 \nJetzt gleich Platz sichern!Onlinereservierung unter:www.troedelteam-graa
 ge.de / Onlinereservierung\nLasst uns doch bitte unter https://www.faceboo
 k.com/troedelteam.graage/ Euer Like da.
LOCATION:Bruckwiesen 2-4 91088 
SUMMARY:Flohmarkt Trödelmarkt REWE Center Bruckwiesen 2-4 in Bubenreuth id
 eal für Privatanbieter
END:VEVENT
END:VCALENDAR
