BEGIN:VCALENDAR
VERSION:2.0
PRODID:icalendar-ruby
CALSCALE:GREGORIAN
BEGIN:VEVENT
DTSTAMP:20260424T144128Z
UID:91f2b484-25bd-4761-9f36-89a5ff36693a
DTSTART:20260525T070000
DTEND:20260525T160000
DESCRIPTION:Riesenflohmarkt auf dem Parkplatz der Firma Mömax in Hirschaid
 .\nBekannter Platz - komplett asphaltiert - direkt an der A73.Trödel und 
 Neuware erlaubt!!!Industriestraße 5   in   96114 HirschaidEin mega Pla
 tz mit super Lage\nA73 : Autobahnausfahrt Hirschaid\nOnlinereservierung un
 ter www.troedelteam-graage.de empfohlen oder am Vortag von 20 bis 21 Uhr d
 irekt am Platzoder früh ab 8 Uhr einfach kommen!\nTrödel:     5 Mete
 r mit Auto oder Anhänger 30\,00€Neuware: 5 Meter mit Auto oder Anhänge
 r 40\,00€\nSie möchten einen kleinen Stand:Je Meter Trödel 5\,00€ Je
  Meter Neuware 8\,00€\nGrundgebühr an Sonntags und Feiertagsmärkten pr
 o Stand: 3 Euro\nTermindaueransage: 0911 - 32 96 23Bei weiteren Fragen err
 eichen Sie uns unterThomas: 0175 - 20 80 762 oder Dani: 0175 - 24 68 169 o
 der Lilli: 0171 - 79 41 826\nJetzt gleich Platz sichern!Onlinereservierung
  unter:www.troedelteam-graage.de / Onlinereservierung\nLasst uns doch bitt
 e unter https://www.facebook.com/troedelteam.graage/ Euer Like da.
LOCATION:Industriestraße 5 96114 
SUMMARY:Riesenflohmarkt MÖMAX Hirschaid - das Mega Event in Hirschaid
END:VEVENT
END:VCALENDAR
