BEGIN:VCALENDAR
VERSION:2.0
PRODID:icalendar-ruby
CALSCALE:GREGORIAN
BEGIN:VEVENT
DTSTAMP:20260424T034950Z
UID:df8598d9-e41b-4f8d-afc6-2e583c622a27
DTSTART:20260906T080000
DTEND:20260906T160000
DESCRIPTION:Floh &amp\; Trödelmarkt auf dem Parkplatz der Firma Rewe in He
 ßdorf.\nBekannter Platz - komplett asphaltiert - direkt an der A3.Trödel
  und Neuware erlaubt!!!Im Gewerbepark 13\, 91093 Heßdorf.Ein mega Platz m
 it super Lage\nOnlinereservierung unter www.troedelteam-graage.de empfohle
 n oder am Vortag von 20 bis 21 Uhr direkt am Platzoder Sonntag früh ab 7 
 Uhr einfach kommen!\nTrödel:     5 Meter mit Auto oder Anhänger 30\,
 00€Neuware: 5 Meter mit Auto oder Anhänger 40\,00€\nSie möchten eine
 n kleinen Stand:Je Meter Trödel 5\,00€ Je Meter Neuware 8\,00€\nGrund
 gebühr an Sonntags und Feiertagsmärkten pro Stand: 3 Euro\nTermindaueran
 sage: 0911 - 32 96 23Bei weiteren Fragen erreichen Sie uns unterThomas: 01
 75 - 20 80 762 oder Dani: 0175 - 24 68 169 oder Lilli: 0171 - 79 41 826\nJ
 etzt gleich Platz sichern!Onlinereservierung unter:www.troedelteam-graage.
 de / Onlinereservierung\nLasst uns doch bitte unter https://www.facebook.c
 om/troedelteam.graage/ Euer Like da.
LOCATION:Im Gewerbepark 13 91093 
SUMMARY:Riesenflohmarkt REWE Center Heßdorf - das Mega Event in Heßdorf
END:VEVENT
END:VCALENDAR
