BEGIN:VCALENDAR
VERSION:2.0
PRODID:icalendar-ruby
CALSCALE:GREGORIAN
BEGIN:VEVENT
DTSTAMP:20260424T030913Z
UID:1ec65d0d-5787-4cfd-a83e-fb60b153a187
DTSTART:20260510T080000
DTEND:20260510T160000
DESCRIPTION:Platzvergabe:\nDie Standplatzvergabe erfolgt ab 6:00 Uhr. Die V
 ergabe der Plätze erfolgt nach der Reihenfolge der ankommenden Aussteller
 .\nEine Anmeldung ist nicht erforderlich\, einfach morgens ab 6:00 Uhr hin
 kommen und mitmachen.\nWir haben ausreichend Platz zur Verfügung\, sodass
  auch für Nachzügler nach 8:00 Uhr noch die Möglichkeit nach einem Stan
 dplatz besteht.\nDie Standgebühr wird ab 8:00 Uhr vor Ort nach dem Standa
 ufbau abgerechnet.\n \nPreise:\nTrödel- und Gebrauchtwaren: laufender Me
 ter 8€*\nNeu- und Retourewaren: laufender Meter 10€*\n \n*KFZ &amp\; 
 Anhänger immer kostenlos – Es besteht eine Mindest-Meter-Abnahme von 3 
 Metern.\n \nTextilien- Lederneuwaren\, Lebensmittel und Gastronomie werde
 n nur nach vorheriger Absprache gestattet.\n \n \nAlle weiteren Flohmark
 t-Termine und Informationen finden Sie auf:\nwww.knoepke-flohmarkt.de\n \
 nFolgen Sie uns auf Facebook\, um immer auf dem laufenden zu sein. \nwww.
 facebook.com/KnoepkeFlohmarkt\n \nBei weiteren Fragen stehen wir Ihnen ge
 ren zur Verfügung. \nWir freuen uns auf Sie\, \nIhr Team von Knöpkes F
 lohmärkte
LOCATION:Husumer Straße 28B 25821 
SUMMARY:Flohmarkt Möbel Jessen Breklum 
END:VEVENT
END:VCALENDAR
