BEGIN:VCALENDAR
VERSION:2.0
PRODID:icalendar-ruby
CALSCALE:GREGORIAN
BEGIN:VEVENT
DTSTAMP:20260420T104612Z
UID:a2b1b21f-d768-4a32-81f1-13cf163656f1
DTSTART:20261206T110000
DTEND:20261206T160000
DESCRIPTION:Der Mädelsflohmarkt in deiner Stadt - dein Markt für Second H
 and Frauenkleidung und Accessoires.\nVintage Teile\, Second Hand Klamotten
 \, Designerkram\, Schuhe\, Schmuck\, Accessoires\, Selbstgemachtes\, ausra
 ngiertes u.v.m.\nBesucherpreise:\nEinzelkarte (w/d/m) ab 12 Jahre: 4\,00
 €\nAusstellerpreise | Standplatzbuchung | Infos unter: www.maedchenklamo
 tte.de
LOCATION:Westfalenstraße 197 48165 Hiltrup
SUMMARY:Mädchen Klamotte @Münster Stadthalle Hiltrup
END:VEVENT
END:VCALENDAR
