BEGIN:VCALENDAR
VERSION:2.0
PRODID:icalendar-ruby
CALSCALE:GREGORIAN
BEGIN:VEVENT
DTSTAMP:20260421T003517Z
UID:0b7cc70b-f8f4-4b27-82d8-9070f7f96087
DTSTART:20260531T110000
DTEND:20260531T180000
DESCRIPTION:PREISE: Trödel lfdm./Tag € 10\,- // Neuware lfdm./Tag € 15
 \,-\, zzgl. € 5\,- Grundgebühr auf die Gesamtstandmiete\, + € 5\,- Re
 inigungskaution (Die KAUTION bekommen Sie vor Ort\, bei sauberen Verlassen
  ihres Platzes\, gegen Vorlage der am Veranstaltungstag ausgestellten Quit
 tung ZURÜCKERSTATTET !)\nAb 3 lfdm. darf der Pkw hinter dem Stand stehen 
 bleiben\, sofern dieser dahinter passt (ist von der Pkw-Länge abhängig!)
 .\nGerne können Sie\, bis 3 Tage vor dem Veranstaltungstag\, 16.00 Uhr\, 
 per E-Mail unter veranstaltungsbuero.stefan@gmail.com einen Platz reserv
 ieren lassen\, in diesem Fall müssten Sie dann am Veranstaltungstag bis 0
 8.00 Uhr vor Ort sein\, die Bezahlung der Standgebühr erfolgt bis 3 Tage 
 vor der Veranstaltung per Überweisung\, die Daten für die Überweisung w
 erden ihnen in der jeweiligen E-Mail-Bestätigung mitgeteilt! \nOder Sie 
 kommen am Tag vor dem Veranstaltungstag auf den Parkplatz\, in der Zeit vo
 n 14 bis 17 Uhr sind wir dann vor Ort und zeichnen\, gegen Bezahlung der S
 tandgebühr\, Plätze ein! (solange/sofern Plätze vorhanden sind!)\nSollt
 en Sie keine Reservierung wünschen\, können Sie auch am Veranstaltungsta
 g selbst\, ab 06.30 Uhr zur Restplatzvergabe erscheinen! (solange/sofern P
 lätze vorhanden sind!)\nKOSTENLOSE BESUCHERPARKPLÄTZE AUF UND RUND UM DA
 S VERANSTALTUNGSGELÄNDE !\nWEITERE INFO´S unter www.veranstaltungsbuero
 -stefan.de ODER auf unserer Facebook-Seite: Veranstaltungsbüro-Stefan  \
 n \nWegbeschreibung: A 3 Abfahrt Wesel\, dann auf die B 58 Richtung Wesel
  und den orangen Kram- Trödelmarktschildern mit den Pfeilen         
                                 folgen!\n           
                    ODER\n                          
     A 59 Richtung Dinslaken\, dann auf die B 8 Richtung Voerde/Wesel dan
 n auf die B 58 Drevenack/Schermbeck und den\n                   
            orangen Kram- Trödelmarktschildern mit den Pfeilen folgen
 !\n \nVeranstaltungs-Adresse: 46485 Wesel\, Rudolf-Diesel-Straße 7
LOCATION:Rudolf-Diesel-Straße 7 46485 Obrighoven-Lackhausen
SUMMARY:Wesel\, Kaufland Parkplatz (ehemals Globus)\, Rudolf-Diesel-Str. 7 
 / Trödel € 10\,- lfdm.\, Neuware € 15\,- lfdm. 
END:VEVENT
END:VCALENDAR
