BEGIN:VCALENDAR
VERSION:2.0
PRODID:icalendar-ruby
CALSCALE:GREGORIAN
BEGIN:VEVENT
DTSTAMP:20260421T022225Z
UID:5bbd6200-5d4b-4589-9cc7-2076ad291922
DTSTART:20260621T050000
DTEND:20260621T160000
DESCRIPTION:Das Mega Event des Jahres ist wieder da!\nNur 1x im Jahr am SON
 NTAG 21.06.2026\nFlohmarkt im Schweinfurter Hafen mit direkter Autobahnanb
 indung\, zentral in den Einzugsgebieten von Kitzingen \, Bad Kissingen \, 
 Bamberg\, Hassfurt\, Gerolzhofen\, Würzburg\, Hammelburg usw.\nEin Imbiss
 wagen (Bratwurst\, Steaks\, Crepes\, Kaffee\, Kuchen) sowie ausreichend Ge
 tränke stehen Ihnen zur Verfügung.\nSie können ab sofort Ihren Stand au
 f unserer Homepage www.hmu-veranstaltungen.de buchen. Hier steht Ihnen der
  Frühbucherbereich zur Verfügung.\nDer Frühbucherbereich steht nur für
  eine begrenzte Zeit zur Verfügung (Datum siehe Homepage)\, danach erfolg
 t die Ticketvergabe am Veranstaltungstag.\nMinimum-Verkaufsfläche beträg
 t 4 m.\nStandgebühren:\nPreise Frübbucherrabatt (nur gegen Vorkasse):\nl
 aufender Meter 7 EuroAuto am Stand 5 Euro(zum Beispiel: 4m Verkaufsfläche
  ohne Auto-28 Euro\, 5m Verkaufsfläche ohne Auto-35 Euro\, 4m Verkaufsfl
 äche mit Auto-33 Euro)\nDer gebuchte Platz ist den ganzen Tag für Sie re
 serviert\, der Platz wird am Veranstaltungstag zugewiesen.\n \nPreise am 
 Veranstaltungstag (nach Verfügbarkeit):\nlaufender Meter 8 EuroAuto am St
 and 5 Euro(zum Beispiel: 4m Verkaufsfläche ohne Auto-32 Euro\, 5m Verkauf
 sfläche ohne Auto- 40 Euro\, 4m Verkaufsfläche mit Auto-37 Euro)\nAufbau
  ab 05.00 Uhr\, Ende 16.00 Uhr\n \nNeuware auf Anfrage. Laufender Meter 1
 0 Euro.\n 
LOCATION:Rudolf-Diesel-Straße 24 97424 
SUMMARY:Riesenflohmarkt Globus Baumarkt Schweinfurt MEGA EVENT DES JAHRES 2
 026!
END:VEVENT
END:VCALENDAR
