BEGIN:VCALENDAR
VERSION:2.0
PRODID:icalendar-ruby
CALSCALE:GREGORIAN
BEGIN:VEVENT
DTSTAMP:20260426T010202Z
UID:c0a2d0d0-aa56-475e-b5bd-b18491761484
DTSTART:20260905T110000
DTEND:20260905T180000
DESCRIPTION:Wir freuen uns sehr Sie zum ersten Mal als Besucher*in auf Burg
  Namedy vom 06. bis 08. September 2024 willkommen zu heißen!\nDie impos
 ante Atmosphäre der historischen Burg mit seiner weitläufigen Natur-P
 arkanlage bietet die perfekte Kulisse für die Herbstpartie.\nEntdecken S
 ie rund 140 Aussteller*innen\, die eine tolle Auswahl an exklusiven Liebl
 insgsstücken und Inspirationen für Sie dabei haben.
LOCATION:Schlossstrasse 56626 Namedy
SUMMARY:Herbstpartie Burg Namedy
END:VEVENT
END:VCALENDAR
