BEGIN:VCALENDAR
VERSION:2.0
PRODID:icalendar-ruby
CALSCALE:GREGORIAN
BEGIN:VEVENT
DTSTAMP:20260425T140954Z
UID:9dda1beb-bbdb-4057-b863-75141ffbae1a
DTSTART:20260620T070000
DTEND:20260620T160000
DESCRIPTION:Flohmarkt Sa. 20. 06. 2026 in 79872 Bernau Innerlehen Parkplatz
  Kurhaus von 9- 16 Uhr. Aufbau ab 6 Uhr.\nInfo. 07627-923559 oder 0160-371
 9485
LOCATION:Am Kurpark 16 79872 Innerlehen
SUMMARY:Parkplatz Kurhaus
END:VEVENT
END:VCALENDAR
