BEGIN:VCALENDAR
VERSION:2.0
PRODID:icalendar-ruby
CALSCALE:GREGORIAN
BEGIN:VEVENT
DTSTAMP:20260424T074316Z
UID:312856de-5217-4cfd-8d48-4ca36771a24c
DTSTART:20260614T100000
DTEND:20260614T160000
DESCRIPTION:Moin Hamburg.\nNachdem wir jahrelang ausgebucht in den Hallen v
 or den Toren der Hansestadt unsere Börsen durchgeführt haben\,\nkommen w
 ir jetzt einmal im Jahr auch direkt zu euch in die Hansestadt HAMBURG.\nMi
 t noch mehr Platz und somit größer als in Seevetal &amp\; Buxtehude freu
 en wir uns auf DEN neuen Treffpunkt im Norden in der großen Eisarena in F
 armsen.\nWeitere Informationen\, Bilder &amp\; mehr auf www.spielzeugboers
 en.com
LOCATION:Berner Heerweg 152 22159 Wandsbek
SUMMARY:Modellbahn- und Spielzeugbörse HAMBURG
END:VEVENT
END:VCALENDAR
