BEGIN:VCALENDAR
VERSION:2.0
PRODID:icalendar-ruby
CALSCALE:GREGORIAN
BEGIN:VEVENT
DTSTAMP:20260421T124259Z
UID:9b91afee-0505-4013-a480-650527720787
DTSTART:20260621T110000
DTEND:20260621T170000
DESCRIPTION:Am Sonntag\, dem 21. Juni 2026 von 11-17 Uhr\, findet der Deuts
 ch-Holländische Stoffmarkt wieder in Unna statt. An zahlreichen bunt deko
 rierten und teilweise mit Stoffen behangenen Ständen präsentieren sich d
 ie Aussteller auf dem Markt.\nNähliebhaber wissen – Stoffe müssen nich
 t nur gut aussehen\, sie müssen sich auch gut anfühlen. Dies ist ein gro
 ßer Vorteil des Stoffmarktes gegenüber dem Online-Handel\, denn hier kan
 n jeder Besucher die Produkte in die Hand nehmen und die Qualität selbst 
 begutachten.\nViele Besucher schätzen auch den direkten Kontakt zum Exper
 ten. Vor allem für Nähneulinge bietet dies eine gute Möglichkeit sich v
 or dem Kauf beraten zu lassen oder hilfreiche Tipps zu bekommen\, damit da
 s Nähprojekt auch ein voller Erfolg wird.\nAbgerundet wird das Angebot du
 rch eine riesige Auswahl an Schnittmustern und Kurzwaren wie Applikationen
 \, Borten\, Nadeln oder Garn.\nDer Eintritt zum Stoffmarkt ist wie gewohnt
  frei.\nWeitere Informationen finden Sie unter: deinstoffmarkt.de
LOCATION:Markt  59423 
SUMMARY:Stoffmarkt Unna
END:VEVENT
END:VCALENDAR
