BEGIN:VCALENDAR
VERSION:2.0
PRODID:icalendar-ruby
CALSCALE:GREGORIAN
BEGIN:VEVENT
DTSTAMP:20260420T123657Z
UID:a3b12889-dbd1-47a9-8b0c-020f0fba8207
DTSTART:20260530T100000
DTEND:20260530T170000
DESCRIPTION:Am Samstag\, den 30. Mai 2026 von 10-17 Uhr\, findet der Deutsc
 h-Holländische Stoffmarkt wieder in Magdeburg statt. An zahlreichen bunt 
 dekorierten und teilweise mit Stoffen behangenen Ständen präsentieren si
 ch die Aussteller auf dem Alten Markt.\nNähliebhaber wissen – Stoffe m
 üssen nicht nur gut aussehen\, sie müssen sich auch gut anfühlen. Dies 
 ist ein großer Vorteil des Stoffmarktes gegenüber dem Online-Handel\, de
 nn hier kann jeder Besucher die Produkte in die Hand nehmen und die Qualit
 ät selbst begutachten.\nViele Besucher schätzen auch den direkten Kontak
 t zum Experten. Vor allem für Nähneulinge bietet dies eine gute Möglich
 keit sich vor dem Kauf beraten zu lassen oder hilfreiche Tipps zu bekommen
 \, damit das Nähprojekt auch ein voller Erfolg wird.\nAbgerundet wird das
  Angebot durch eine riesige Auswahl an Schnittmustern und Kurzwaren wie Ap
 plikationen\, Borten\, Nadeln oder Garn.\nDer Eintritt zum Stoffmarkt ist 
 wie gewohnt frei.\nWeitere Informationen finden Sie unter: https://deinsto
 ffmarkt.de/termine/
LOCATION:Alter Markt  39104 
SUMMARY:Stoffmarkt Magdeburg
END:VEVENT
END:VCALENDAR
