BEGIN:VCALENDAR
VERSION:2.0
PRODID:icalendar-ruby
CALSCALE:GREGORIAN
BEGIN:VEVENT
DTSTAMP:20260420T104614Z
UID:4a5e42b4-d8fd-48e1-9b7c-9e54f0bd5664
DTSTART:20260501T110000
DTEND:20260501T170000
DESCRIPTION:Am Freitag den 1. Mai  2026\,von 11-17 Uhr\, gastiert der Deut
 sch-Holländische Stoffmarkt wieder in der Innenstadt (Hoher Weg) von Hild
 esheim.\nAn über 80 Ständen finden Nähbegeisterte von Stoffen bis Zubeh
 ör alles\, rund um das Thema "Nähen".\nWeitere Informationen finden Sie 
 unter: https://deinstoffmarkt.de/stoffmarkt/
LOCATION:Hoher Weg  31134 
SUMMARY:Stoffmarkt Hildesheim
END:VEVENT
END:VCALENDAR
