BEGIN:VCALENDAR
VERSION:2.0
PRODID:icalendar-ruby
CALSCALE:GREGORIAN
BEGIN:VEVENT
DTSTAMP:20260424T140115Z
UID:5b26778b-1f3e-4d8e-9910-8fa9a62d1adf
DTSTART:20260424T100000
DTEND:20260424T170000
DESCRIPTION:Am Freitag\, den 24. April 2026 von 10-17 Uhr\, findet der Deut
 sch-Holländische Stoffmarkt wieder in Hanau statt. An zahlreichen bunt de
 korierten und teilweise mit Stoffen behangenen Ständen präsentieren sich
  die Aussteller auf dem Marktplatz.\nNähliebhaber wissen – Stoffe müss
 en nicht nur gut aussehen\, sie müssen sich auch gut anfühlen. Dies ist 
 ein großer Vorteil des Stoffmarktes gegenüber dem Online-Handel\, denn h
 ier kann jeder Besucher die Produkte in die Hand nehmen und die Qualität 
 selbst begutachten.\nViele Besucher schätzen auch den direkten Kontakt zu
 m Experten. Vor allem für Nähneulinge bietet dies eine gute Möglichkeit
  sich vor dem Kauf beraten zu lassen oder hilfreiche Tipps zu bekommen\, d
 amit das Nähprojekt auch ein voller Erfolg wird.\nAbgerundet wird das Ang
 ebot durch eine riesige Auswahl an Schnittmustern und Kurzwaren wie Applik
 ationen\, Borten\, Nadeln oder Garn.\nDer Eintritt zum Stoffmarkt ist wie 
 gewohnt frei.\nWeitere Informationen finden Sie unter: https://deinstoffma
 rkt.de/termine/
LOCATION:Am Markt 14 63450 
SUMMARY:Stoffmarkt Hanau
END:VEVENT
END:VCALENDAR
