BEGIN:VCALENDAR
VERSION:2.0
PRODID:icalendar-ruby
CALSCALE:GREGORIAN
BEGIN:VEVENT
DTSTAMP:20260424T210822Z
UID:bf6a4b7e-d88a-452d-90af-ae74a05f8adb
DTSTART:20260426T110000
DTEND:20260426T170000
DESCRIPTION:Am Sonntag\, de 26. April 2026 von 11-17 Uhr\, findet der Deuts
 ch-Holländische Stoffmarkt wieder in Bad Godesberg statt. An zahlreichen 
 bunt dekorierten und teilweise mit Stoffen behangenen Ständen präsentier
 en sich die Aussteller auf dem Theaterplatz.\nNähliebhaber wissen – Sto
 ffe müssen nicht nur gut aussehen\, sie müssen sich auch gut anfühlen. 
 Dies ist ein großer Vorteil des Stoffmarktes gegenüber dem Online-Handel
 \, denn hier kann jeder Besucher die Produkte in die Hand nehmen und die Q
 ualität selbst begutachten.\nViele Besucher schätzen auch den direkten K
 ontakt zum Experten. Vor allem für Nähneulinge bietet dies eine gute Mö
 glichkeit sich vor dem Kauf beraten zu lassen oder hilfreiche Tipps zu bek
 ommen\, damit das Nähprojekt auch ein voller Erfolg wird.\nAbgerundet wir
 d das Angebot durch eine riesige Auswahl an Schnittmustern und Kurzwaren w
 ie Applikationen\, Borten\, Nadeln oder Garn.\nDer Eintritt zum Stoffmarkt
  ist wie gewohnt frei.\nWeitere Informationen finden Sie unter: https://de
 instoffmarkt.de/termine/
LOCATION:Theaterplatz  53177 Bad Godesberg
SUMMARY:Stoffmarkt Bad Godesberg
END:VEVENT
END:VCALENDAR
