BEGIN:VCALENDAR
VERSION:2.0
PRODID:icalendar-ruby
CALSCALE:GREGORIAN
BEGIN:VEVENT
DTSTAMP:20260425T161531Z
UID:0b1b0b3a-7a00-4e5e-8f61-33bffa297360
DTSTART:20260530T080000
DTEND:20260530T150000
DESCRIPTION:Anmeldung erforderlich\,\nLaufender Meter Gebrauchtware 9 Euro 
 Neuware auf Anfrage. Kleiderständer wird mit 3 Euro berechnet. Bei nur Kl
 eiderständer werden die Meter berechnet.\nPKW ab drei Meter am Stand Bus\
 , Transporter etc ab min 5 Meter\nAufbau ab 7 Uhr\nMit dem Befahren des Pl
 atzes ist auf das Ordnungspersonal zu warten
LOCATION:Enzweg 4 74354 
SUMMARY:Besigheim Parkplatz an der Enz
END:VEVENT
END:VCALENDAR
