BEGIN:VCALENDAR
VERSION:2.0
PRODID:icalendar-ruby
CALSCALE:GREGORIAN
BEGIN:VEVENT
DTSTAMP:20260420T014835Z
UID:50dbe338-4ffe-4bef-853c-505a8622e288
DTSTART:20260425T080000
DTEND:20260425T160000
DESCRIPTION:Flohmarkt Sigmaringen /Parkpl. Möbel Vogt\nvon 08°°-16°° U
 hr\nlfm. 9.- €\nAuto am Stand\nKeine Anmeldung erforderlich !!!\nNeuware
  unerwünscht !!!
LOCATION:Friedrich-List-Straße 5 72488 
SUMMARY:Parkpl. Möbel Vogt
END:VEVENT
END:VCALENDAR
