BEGIN:VCALENDAR
VERSION:2.0
PRODID:icalendar-ruby
CALSCALE:GREGORIAN
BEGIN:VEVENT
DTSTAMP:20260420T140904Z
UID:8ec63ba3-1b24-4791-bdb1-4956e6dd25b0
DTSTART:20260613T080000
DTEND:20260613T160000
DESCRIPTION:Flohmarkt Sigmaringen / Parkpl. Möbel Vogt\nvon 08°°-16°° 
 Uhr\nlfm. 9.- €\nAuto am Stand\nKeine Anmeldung Erforderlich !!!\nNeuwar
 e unerwünscht !!!
LOCATION:Friedrich-List-Straße 5 72488 
SUMMARY:Parkpl. Möbel Vogt
END:VEVENT
END:VCALENDAR
