BEGIN:VCALENDAR
VERSION:2.0
PRODID:icalendar-ruby
CALSCALE:GREGORIAN
BEGIN:VEVENT
DTSTAMP:20260421T184212Z
UID:ddad3ad6-8a3a-406b-9faf-8302b2c54ae9
DTSTART:20260510T060000
DTEND:20260510T170000
DESCRIPTION:
LOCATION:Uthofstraße  33442 Herzebrock
SUMMARY:Schneider\,s Trödelmärkte
END:VEVENT
END:VCALENDAR
