BEGIN:VCALENDAR
VERSION:2.0
PRODID:icalendar-ruby
CALSCALE:GREGORIAN
BEGIN:VEVENT
DTSTAMP:20260420T150353Z
UID:47fb3a67-fd7e-4a96-8118-2d4dc6c04e37
DTSTART:20260509T100000
DTEND:20260509T160000
DESCRIPTION: \nAm 9. Mai 2026  geht's weiter...\nDer Festplatz Kidrontal 
 wird wieder zum Paradies für alle Trödelfreunde.\nVon 10- 16 Uhr darf wi
 eder geschaut\,  gefeilscht und gekauft werden.\nDer Händleraufbau begin
 nt ab 7.30 Uhr\,  Abbau frühestens 30 Minuten vor Veranstaltungsende. 3m
  Standfläche kosten 20 Euro. Jeder weitere Meter kostet 7 Euro. \nBitte 
 verlassen Sie Ihren Standplatz sauber und ordentlich und lassen keinen Mü
 ll zurück. \nAnmeldungen sind  unter 0174-3627433 (gern auch per WhatsA
 pp) möglich.\nFür das leibliche Wohl sorgt unser Trödel- Imbiss.\nDer E
 intritt für Besucher ist frei!
LOCATION:Scultetusstraße 14 02828 
SUMMARY:Trödelmarkt Kidrontal 
END:VEVENT
END:VCALENDAR
