BEGIN:VCALENDAR
VERSION:2.0
PRODID:icalendar-ruby
CALSCALE:GREGORIAN
BEGIN:VEVENT
DTSTAMP:20260426T000752Z
UID:de08789c-ac07-4c03-93d2-4ef57fd09132
DTSTART:20260524T110000
DTEND:20260524T170000
DESCRIPTION:Kram und Trödelmarkt am Sonntag den 19.04. und auf dem Marktpl
 atz Hagen Boeleund am Sonntag 24.05.auf der Springe​​\nWir bieten den 
 Hagener Bürgern die Möglichkeit zum Verkauf von Trödel zu einem Frontme
 ter - Preis von 8\,00€. Ab einer Buchung von 5 Metern ist das Abstellen 
 eines Pkw´s auf Wunsch inclusive. Gewerbetreibende mit Neuware zahlen 16.
 -€ pro Meter\, Imbiss und Getränke zum Sofortverzehr nach individueller
   Vereinbarung.\n​\nVoranmeldungen beginnen ab dem 04.08.2025 für den 
 31.08. in Boele.  Sie buchen  online per whatsapp oder email gegen Vorka
 sse\, ab  auch telefonische Anmeldung möglich. Rand- und Eckplätze wie 
 bisher mit einmalig 10.-€Aufschlag.\n​\nHinzu kommt eine Reinigungskau
 tion von 10.-€\, die Sie bei sauberem Verlassen der jeweiligen Verkaufsf
 läche nach Beendigung der Veranstaltung zurück erhalten.\n​\nWichtige 
 Änderung: Trödler zahlen wie bisher 8.-€ pro Meter bei Voranmeldung.\
 n                                       Trödler ohne 
 Anmeldung zahlen am Veranstaltungstag 10.-€ pro Meter bei der Zufahrt.\n
 ​\nDiese und allgemeine Infos bekommt jeder Teilnehmer ausgedruckt bei A
 nfahrt überreicht:\n​\nHinweise für den Trödelmarkt am 31.08.2025 auf
  dem Marktplatz Hagen Boele:\n​\nSehr geehrte Anbieter\,\ndie nachfolgen
 den Hinweise für die Veranstaltung sind zu beachten:\n​\ndie Standplät
 ze für die heutige Veranstaltung wurden im Vorverkauf vergeben und Sie wu
 rden darauf hingewiesen\, dass die Quittung am Tag der Veranstaltung mitzu
 bringen ist\, weil die Quittungsnummer gleichzeitig die Standplatznummer u
 nd der Nachweis für die Anmeldung ist.\n \nDer Aufbau findet ab 07.00 Uh
 r statt und die Verkaufszeit ist auf die Zeit von 11.00 Uhr bis 17.00 Uhr 
 festgesetzt. Während der Verkaufszeit dürfen keine Fahrzeuge die Verkauf
 sfläche befahren.\n \nWährend der Aufbauzeit dürfen Sie Ihr Kraftfahrz
 eug kurzfristig vor der von Ihnen angemieteten Standfläche abstellen und 
 entladen. Das Fahrzeug darf keinesfalls auf den benachbarten Standplätzen
  abgestellt werden. Nach dem Entladen ist die Fläche in Schrittgeschwindi
 gkeit zu verlassen.\n​\nAusdrücklich  wird darauf hingewiesen\, das da
 s Einschlagen von Bodenhaken oder jedwede andere Beschädigung der Platzob
 erfläche strengstens verboten ist. Zuwiderhandlung wird zur Anzeige gebra
 cht.\n \nDer Standplatz ist nach vorne und zu den Seiten durch Farbmarkie
 rungen begrenzt und die Tiefe der Standfläche beträgt grundsätzlich 4\,
 5 Meter. \n \nDie Gänge sind ausnahmslos dem Publikum vorbehalten und d
 ienen darüber hinaus als Rettungswege\, so dass diese nicht zugestellt od
 er verstellt werden dürfen.\n \nNach Beendigung der Verkaufszeit - also 
 ab 17.00 Uhr muss die Verkaufsfläche in einem sauberen Zustand verlassen 
 werden\, nach Rückzahlung der Reinigungskaution\,  verlassen Fahrzeuge d
 ie Fläche wiederum im Schritttempo.\n \nDie Verantwortlichen sind währe
 nd der gesamten Veranstaltung vor Ort und können im Notfall unter der Tel
 efonnummer 0178 / 5741951 erreicht werden.\nDie Toiletten sind ab 8.00 Uhr
  geöffnet.\nSollten vor dem 03.10.2025 nicht alle Plätze verkauft sein\,
  werden wir Spontananbieter hinzunehmen.\n​
LOCATION:Johanniskirchplatz  58095 
SUMMARY:Hagen Springe Marktplatz (Trödelmarkt)
END:VEVENT
END:VCALENDAR
