BEGIN:VCALENDAR
VERSION:2.0
PRODID:icalendar-ruby
CALSCALE:GREGORIAN
BEGIN:VEVENT
DTSTAMP:20260420T072935Z
UID:7b681a15-6f60-4ed7-b05c-a30edf49aec5
DTSTART:20260606T090000
DTEND:20260606T160000
DESCRIPTION:Ab 6 €/laufender Meter zentral in Hamburg trödeln. Buchungen
  direkt online auf unserer Website. Es gibt auch PKW-Plätze. Es kann wied
 er auf einem der schönsten Plätze von Hamburg getrödelt werden. Rund um
  den Hansabrunnen freuen wir uns auf einen schönen Markt! Keine Neuware. 
 Waffenverbotszone - daher keine Messer etc..
LOCATION:Hansaplatz  20099 Hamburg-Mitte
SUMMARY:Flohmarkt Hansaplatz
END:VEVENT
END:VCALENDAR
