BEGIN:VCALENDAR
VERSION:2.0
PRODID:icalendar-ruby
CALSCALE:GREGORIAN
BEGIN:VEVENT
DTSTAMP:20260424T101552Z
UID:501d5390-e048-4343-9e86-9f7a8c075d11
DTSTART:20261009T100000
DTEND:20261009T180000
DESCRIPTION:Der goldene Herbst zeigt sich von seiner schönsten Seite\, wen
 n das idyllische Schloss Dyck seine Tore für den alljährlichen Schlosshe
 rbst öffnet. Das stimmungsvolle Treiben auf dem Gelände begeistert mit e
 iner Mischung aus erlesenen Ausstellern\, kulinarischen Köstlichkeiten un
 d einem abwechslungsreichen Rahmenprogramm für die ganze Familie.\nEtwa 1
 40 Aussteller präsentieren alles rund um das Thema Herbst: von Pflanzen u
 nd Stauden für die Herbstbepflanzung\, über ausgefallene Gartenaccessoir
 es und hochwertige Gartengeräte bis hin zu stilvollen Lifestyle-Produkten
 \, handgefertigtem Schmuck\, Mode und Kunsthandwerk.\nAuf die kleinen Gäs
 te wartet ein ganz besonderes Highlight: Das traditionelle Kürbisschnitze
 n\, bei dem sie lustige oder schaurige Kunstwerke gestalten können.\nAbge
 rundet wird das herbstliche Angebot durch kulinarische Köstlichkeiten und
  mobile Live-Musik.\n \nEintrittspreise\nOnlinepreise: Erw. 18\,50 €\, 
 ermäßigt 13\,50 €\; Kind (7-16J.) 3 €\; Kind (0-6J.) kostenfrei\nTag
 eskasse: Die Preise sind bis zu 1 € höher\nZuzahlung Jahreskarte PARK: 
 Erw. 6 €\, ermäßigt 5 €\, Kind (7-16J.) 0\,50 €\nInhaber der ArtCa
 rd und der Jahreskarte PLUS haben freien Eintritt\nTickets\nTickets erhalt
 en Sie online im Ticketshop: https://stiftung-schloss-dyck.shop/de/.\nDer 
 Vorverkauf startet am 3. März 2026.\nWeitere Informationen finden Sie auf
  der Webseite der Stiftung Schloss Dyck: https://www.stiftung-schloss-dyck
 .de/.\n \n© Stiftung Schloss Dyck
LOCATION:Schloß Dyck  41363 
SUMMARY:Schlossherbst in Schloss Dyck
END:VEVENT
END:VCALENDAR
