BEGIN:VCALENDAR
VERSION:2.0
PRODID:icalendar-ruby
CALSCALE:GREGORIAN
BEGIN:VEVENT
DTSTAMP:20260425T184729Z
UID:0ef92755-689a-4546-bf76-8833330e85c8
DTSTART:20260501T110000
DTEND:20260501T180000
DESCRIPTION:Info  www.geide-maerkte.de\n \n 
LOCATION:Alte Heerstraße  53757 
SUMMARY:Hit-Markt 
END:VEVENT
END:VCALENDAR
