BEGIN:VCALENDAR
VERSION:2.0
PRODID:icalendar-ruby
CALSCALE:GREGORIAN
BEGIN:VEVENT
DTSTAMP:20260425T185735Z
UID:5b42df2a-ef62-4bcf-a4ee-f7c481f57355
DTSTART:20260531T110000
DTEND:20260531T180000
DESCRIPTION:Info  www.geide-maerkte.de\n \n 
LOCATION:Alte Heerstraße  53757 
SUMMARY:Hit-Markt 
END:VEVENT
END:VCALENDAR
