BEGIN:VCALENDAR
VERSION:2.0
PRODID:icalendar-ruby
CALSCALE:GREGORIAN
BEGIN:VEVENT
DTSTAMP:20260425T185612Z
UID:c1ae3e46-8417-4edc-91cc-3e5dd14b76cb
DTSTART:20260628T110000
DTEND:20260628T180000
DESCRIPTION:Info  www.geide-maerkte.de\n \n 
LOCATION:Alte Heerstraße  53757 
SUMMARY:Hit-Markt 
END:VEVENT
END:VCALENDAR
