BEGIN:VCALENDAR
VERSION:2.0
PRODID:icalendar-ruby
CALSCALE:GREGORIAN
BEGIN:VEVENT
DTSTAMP:20260425T184740Z
UID:bc979364-f722-4d6d-b89a-195c19b7d357
DTSTART:20260726T110000
DTEND:20260726T180000
DESCRIPTION:Info  www.geide-maerkte.de\n \n 
LOCATION:Alte Heerstraße  53757 
SUMMARY:Hit-Markt 
END:VEVENT
END:VCALENDAR
