BEGIN:VCALENDAR
VERSION:2.0
PRODID:icalendar-ruby
CALSCALE:GREGORIAN
BEGIN:VEVENT
DTSTAMP:20260425T170836Z
UID:7abbc25e-13ec-4b33-9f3c-7ef176098830
DTSTART:20260927T110000
DTEND:20260927T180000
DESCRIPTION:Info  www.geide-maerkte.de\n \n 
LOCATION:Alte Heerstraße  53757 
SUMMARY:Hit-Markt 
END:VEVENT
END:VCALENDAR
