BEGIN:VCALENDAR
VERSION:2.0
PRODID:icalendar-ruby
CALSCALE:GREGORIAN
BEGIN:VEVENT
DTSTAMP:20260424T042419Z
UID:573d3325-02fb-4166-b70b-d2da8b2377f9
DTSTART:20260628T070000
DTEND:20260628T150000
DESCRIPTION:Flohmarkt ( Freigelände )\n!!! KEINE RESERVIERUNG MÖGLICH !!!
 !!! NEUWARE NUR NACH ABSPRACHE!!!\nEinfach ab 6:00 Uhr hinkommen\, jede Pr
 ivatperson kann mitmachen\nDer Aufbau beginnt an dem jeweiligen Tag ab 6:0
 0 Uhr\nStandmiete: 8\,00 €uro je laufendem MeterAuto / Anhänger am Stan
 d: kostenlosStromanschluss: NICHT MÖGLICHReinigungskaution: 5\,00 €uro 
 ( diese gibt es ab 15:00 Uhr bei gereinigtemStandplatz zurück )\n \nDer 
 Flohmarkt findet von 7:00 - 15:00 Uhr statt\nKontakt unter mh-flohmarkt@gm
 x.de\, Tel.: 0179-1791234 ( gerne auch SMS und WhatsApp)
LOCATION:Reinhäuser Landstraße 177 37083 
SUMMARY:Flohmarkt REWE\, Benzstrasse ecke Reinhäuser Landstr. Göttingen-G
 eismar
END:VEVENT
END:VCALENDAR
