BEGIN:VCALENDAR
VERSION:2.0
PRODID:icalendar-ruby
CALSCALE:GREGORIAN
BEGIN:VEVENT
DTSTAMP:20260424T042623Z
UID:c3b3fd9d-b76f-4d5b-b64d-33bcad4d194c
DTSTART:20260830T070000
DTEND:20260830T150000
DESCRIPTION:Flohmarkt ( Freigelände )\n!!! KEINE RESERVIERUNG MÖGLICH !!!
 !!! NEUWARE NUR NACH ABSPRACHE!!!\nEinfach ab 6:00 Uhr hinkommen\, jede Pr
 ivatperson kann mitmachen\nDer Aufbau beginnt an dem jeweiligen Tag ab 6:0
 0 Uhr\nStandmiete: 8\,00 €uro je laufendem MeterAuto / Anhänger am Stan
 d: kostenlosStromanschluss: NICHT MÖGLICHReinigungskaution: 5\,00 €uro 
 ( diese gibt es ab 15:00 Uhr bei gereinigtemStandplatz zurück )\n \nDer 
 Flohmarkt findet von 7:00 - 15:00 Uhr statt\nKontakt unter mh-flohmarkt@gm
 x.de\, Tel.: 0179-1791234 ( gerne auch SMS und WhatsApp)
LOCATION:Reinhäuser Landstraße 177 37083 
SUMMARY:Flohmarkt REWE\, Benzstrasse ecke Reinhäuser Landstr. Göttingen-G
 eismar
END:VEVENT
END:VCALENDAR
