BEGIN:VCALENDAR
VERSION:2.0
PRODID:icalendar-ruby
CALSCALE:GREGORIAN
BEGIN:VEVENT
DTSTAMP:20260422T063537Z
UID:623bbb74-3693-4a1c-8dc1-04c4de045cfd
DTSTART:20260815T060000
DTEND:20260815T150000
DESCRIPTION:Die neue Perle am Nürnberg Flohmarkthimmel.\nZentraler geht es
  nicht. Flohmarkt auf dem großen Parkplatz der Nürnberger Meistersingerh
 alle.\nIm Anschluss an den Flohmarktbesuch lädt das Nürnberger Luitpoldh
 ain für gemütliche Spaziergänge im Grünen ein.\nErreichbar mit:\n \nB
 us Linie 36 Haltestelle Meistersingerhalle\nStraßenbahn Linie 8 Haltestel
 le Meistersingerhalle\n \nReservierung:\nonline unter www.troedelteam-gra
 age.de\noder\nfrüh ab 6 Uhr kommen.\nPreise Samstag\nTrödel: 5 Meter mit
  Auto oder Anhänger 30\,00€Neuware: 5 Meter mit Auto oder Anhänger 45\
 ,00€Je Meter Trödel 5\,00€ Je Meter Neuware 8\,00€\nPreise Mittwoch
 \nTrödel: 5 Meter mit Auto oder Anhänger 20\,00€Neuware: 5 Meter mit A
 uto oder Anhänger 20\,00€Je Meter Trödel 5\,00€ Je Meter Neuware 8\,
 00€\nTermindaueransage: 0911 – 32 96 23\nBei weiteren Fragen erreichen
  Sie uns unterThomas: 0175 – 20 80 762Dani: 0175 – 24 68 169\nJetzt gl
 eich Platz sichern!Onlinereservierung unter:www.troedelteam-graage.de / On
 linereservierung\nLasst uns doch bitte unter https://www.facebook.com/troe
 delteam.graage/ Euer Like da.
LOCATION:Schultheißallee 4 90478 Mitte
SUMMARY:Flohmarkt / Trödelmarkt Meistersingerhalle Nürnberg großer Parkp
 latz
END:VEVENT
END:VCALENDAR
