BEGIN:VCALENDAR
VERSION:2.0
PRODID:icalendar-ruby
CALSCALE:GREGORIAN
BEGIN:VEVENT
DTSTAMP:20260425T234123Z
UID:636ffd63-49c9-4fe8-8768-ad4640cf17fa
DTSTART:20260719T110000
DTEND:20260719T160000
DESCRIPTION:Platvergabe  ab 7:00 Uhr\,  Verkauf ab 11 Uhr\nTrödel    
         lfm     12\,00 €Neuware       lfm      17\,00 €P
 ropaganda  lfm      22\,00 €\nKinderdecke bis 12 Jahre\, max. 2x2 m\
 , nur eigene Spiel-Anziehsachen 3\,00 €ab 3 m Aufbau ist der PKW kosten
 los am Stand\nDas Einpacken der Ware und der Abbau vom Stand ist vor 15:00
  Uhr nicht erlaubt\,bei Zuwiderhandung droht Platzverbot\nEs gibt wetterbe
 dingte Ausnahmen die aber dann bekannt gegeben werden
LOCATION:Bahnhofstraße  56242 Selters (Westerwald)
SUMMARY:Stellmachers Trödelmarkt in Selters Rewe Parkplatz
END:VEVENT
END:VCALENDAR
