BEGIN:VCALENDAR
VERSION:2.0
PRODID:icalendar-ruby
CALSCALE:GREGORIAN
BEGIN:VEVENT
DTSTAMP:20260424T131006Z
UID:16f1adac-7a1f-4d80-ad8d-aa5730b2eb15
DTSTART:20270214T060000
DTEND:20270214T150000
DESCRIPTION:\nTreffpunkt für nette Leute\n\n \nDer Straßenname ist: "Am 
 Rathaus 22"\,  leider läßt sich das oben beim Straßennamen nicht richt
 ig ein tragen.\n \n\nReservierung nötig- keine Neuware erlaubt- Imbiss v
 orhanden- Aufbau ab 6 h\, Standbelegung bis 7 h- Abbau nicht vor 15 h- eig
 ene Tische mitbringen.- Reservierung nur telefonisch\, am besten abends- S
 tandpreis 10€ / m- keine halben Meter möglich - Standgeld und 10 € K
 aution werden zusammen erhoben- Wer vor 14 h beginnt seinen Stand abzuräu
 men oder Müll hinterlässt\,  erhält die Kaution nicht zurück.- Hallen
 saison in Erlensee\, Erlenhalle: November\, Dezember\, Januar und Februar
    (Sonntags)- Freigelände: Jan. bis Dezember (Freitags) Ausgenommen K-
 Freitag( keine Veranstaltung )-  jeden Freitag auf dem Parkplatz  der TS
 G in der Konrad-Adenauer-Str.19\,63526 Erlensee Nähe Erlenhalle\n
LOCATION:Am Rathaus  63526 Langendiebach
SUMMARY:Trödelmarkt Erlensee in der Erlenhalle - Sonntag
END:VEVENT
END:VCALENDAR
