BEGIN:VCALENDAR
VERSION:2.0
PRODID:icalendar-ruby
CALSCALE:GREGORIAN
BEGIN:VEVENT
DTSTAMP:20260420T125222Z
UID:227265ad-25ac-416d-a2ab-37637a08c18e
DTSTART:20260704T100000
DTEND:20260704T160000
DESCRIPTION:Auf dem Campus der Malteser in Wilhemsburg findet in und um den
  historischen Bau ein bunter Nachbarschaftsflohmarkt statt. Standflächen 
 schon für 5€/Meter. Es gibt Flächen im Innenraum und auf der Freifläc
 he. Bunte familienfreundliche Veranstaltung. Es düfren alle mitmachen - n
 icht nur Nachbarn!\nStandbuchung direkt unter www.marktlust.de - wir sehen
  uns!
LOCATION:Krieterstraße 9 21109 Hamburg-Mitte
SUMMARY:Nachbarschaftsflohmarkt Wilhelmsburg
END:VEVENT
END:VCALENDAR
