BEGIN:VCALENDAR
VERSION:2.0
PRODID:icalendar-ruby
CALSCALE:GREGORIAN
BEGIN:VEVENT
DTSTAMP:20260420T104612Z
UID:cb694942-4af2-4e40-a21a-62220edbc9c8
DTSTART:20260607T090000
DTEND:20260607T150000
DESCRIPTION:Bunter Flohmarkt am Flugplatz Heist! Der legeändäre Markt ist
  wieder da! Auf der großen\, schönen Wiese direkt am Flugplatz kann nach
  Herzenslust getrödelt und gestöbert werden. Standplätze weiterhin ab 5
 €/Meter - Vorabbuchung online möglich. \nBuchungen über die Webseite 
 www.marktlust.de oder am Markttag morgens vorbeikommen und den Platz siche
 rn. \nWir freuen uns!
LOCATION:Bültenkoppel 19 25492 Heidrege
SUMMARY:Flohmarkt am Flugplatz Heist
END:VEVENT
END:VCALENDAR
