BEGIN:VCALENDAR
VERSION:2.0
PRODID:icalendar-ruby
CALSCALE:GREGORIAN
BEGIN:VEVENT
DTSTAMP:20260420T091551Z
UID:46076bde-cad6-4f8d-be86-0d4fb2889b5c
DTSTART:20260712T090000
DTEND:20260712T150000
DESCRIPTION:Bunter Flohmarkt am Flugplatz Heist! Der legeändäre Markt ist
  wieder da! Auf der großen\, schönen Wiese direkt am Flugplatz kann nach
  Herzenslust getrödelt und gestöbert werden. Standplätze weiterhin ab 5
 €/Meter - Vorabbuchung online möglich. \nBuchungen über die Webseite 
 www.marktlust.de oder am Markttag morgens vorbeikommen und den Platz siche
 rn. \nWir freuen uns!
LOCATION:Bültenkoppel 19 25492 Heidrege
SUMMARY:Flohmarkt am Flugplatz Heist
END:VEVENT
END:VCALENDAR
