BEGIN:VCALENDAR
VERSION:2.0
PRODID:icalendar-ruby
CALSCALE:GREGORIAN
BEGIN:VEVENT
DTSTAMP:20260424T185317Z
UID:445c0873-1720-468c-acd2-3e0687e818ea
DTSTART:20260628T110000
DTEND:20260628T180000
DESCRIPTION:Hier möchten wir einen tollen Flohmarkt im Herzen von OWL scha
 ffen.\nWir haben alles\, was wir für einen erlebnisreichen Flohmarkttag b
 enötigen.\nEin perfekter und gepflegter Platz für unsere AusstellerEine 
 super Verkehrsanbindung mit direkter Autobahnabfahrt von der A33Unglaublic
 h viele Parkplätze für unsere Besucher mit kurzen Laufwegen.einen hohen 
 Bekanntheitsgrad durch die tollen Events unseres Gastgebers der OWL Arena\
 nAufbau 6:00 bis 8:00 Uhr / Abbau ab 15:00 Uhr\nWeitere Infos\, Standpre
 ise und Aktionen: www.dhd-maerkde.de\n 
LOCATION:Roger-Federer-Allee 4 33790 Halle (Westfalen)
SUMMARY:Großflohmarkt OWL Arena Halle Westfalen
END:VEVENT
END:VCALENDAR
