BEGIN:VCALENDAR
VERSION:2.0
PRODID:icalendar-ruby
CALSCALE:GREGORIAN
BEGIN:VEVENT
DTSTAMP:20260425T111849Z
UID:af461372-87ca-4be5-81c1-221b1992e9ae
DTSTART:20261025T060000
DTEND:20261025T160000
DESCRIPTION:Groß-Flohmarkt Schwanenwiese Kassel\nLiebe Kasseler und Flohma
 rktfreunde\,\nnach dem großen Erfolg im letzten Jahr veranstaltet GameWo
 rld-Kassel auch im Jahr 2026 wieder regelmäßig den Groß-Flohmarkt a
 uf der Schwanenwiese.\nDer Flohmarkt findet im Jahr 2026 in folgenden Mona
 ten statt: Februar\, März\, Mai\, Juni\, Juli\, August\, September\, Okt
 ober und November.Im April 2026 kann leider kein Flohmarkt auf der Schwane
 nwiese angeboten werden.\nIn allen genannten Monaten findet der Flohmarkt
  immer am letzten Wochenende des Monats (Samstag &amp\; Sonntag) statt.\
 n21 + 22 Februar 2026 – Samstag &amp\; Sonntag28 + 29 März 2026 – Sam
 stag &amp\; SonntagApril 2026 – ❌ Kein Flohmarkt30 + 31 Mai 2026 – S
 amstag &amp\; Sonntag27 + 28 Juni 2026 – Samstag &amp\; Sonntag25 + 26 J
 uli 2026 – Samstag &amp\; Sonntag29 + 30 August 2026 – Samstag &amp\; 
 Sonntag26 + 27 September 2026 – Samstag &amp\; Sonntag24 + 25 Oktober 20
 26 – Samstag &amp\; Sonntag28 + 29 November 2026 – Samstag &amp\; Sonn
 tag\nWas erwartet euch?\nVielfältige Stände mit Trödel &amp\; NeuwareEi
 nzigartige Fundstücke für Sammler und SchnäppchenjägerFamiliäre Atmos
 phäre auf einem der bekanntesten Plätze KasselsEssen und Trinken von aus
 gewählten Anbietern\nWo?Schwanenwiese / Messeplatz34123 Kassel\nAnreise m
 it öffentlichen Verkehrsmitteln:Ihr erreicht uns bequem mit:Straßenbahnl
 inien: 4\, 8Buslinien: 10\, 17\, 30\, 31\, 32\, 37\, 38Haltestelle: Pla
 tz der Deutschen Einheit – nur wenige Schritte entfernt!\nAufbau ab:06:
 00 Uhr\nStandgebühren (pro Meter):Samstag: Trödelware 5 € / Neuware 7
  €Sonntag: Trödelware 7 € / Neuware 9 €Beide Tage: Sonntag wird z
 u den Samstagspreisen berechnet→ Trödelware 5 € / Neuware 7 €Mindes
 tstandgröße: 2 Meter\nHinweis für Verkäufer von Essen &amp\; Getränk
 en:Anbieter von Speisen und Getränken müssen sich mindestens 4 Wochen v
 or dem jeweiligen Termin anmelden. Die Standgebühren werden individuell v
 ereinbart.\nKontakt &amp\; Anmeldung:Telefon: 0157 38358946E-Mail: flohm
 arkt@gameworld-kassel.de\nWir freuen uns auf eine erfolgreiche Flohmarkt-S
 aison 2026!Euer Team von GameWorld-Kassel 🎉
LOCATION:Waldauer Fußweg  34123 Unterneustadt
SUMMARY:Groß-Flohmarkt auf der Schwanenwiese / Messeplatz Kassel Samstag +
  Sonntag 2 Tage
END:VEVENT
END:VCALENDAR
