BEGIN:VCALENDAR
VERSION:2.0
PRODID:icalendar-ruby
CALSCALE:GREGORIAN
BEGIN:VEVENT
DTSTAMP:20260422T174410Z
UID:d88d0680-de51-4fc0-92e6-2f1da3b2f713
DTSTART:20260503T100000
DTEND:20260503T160000
DESCRIPTION:Trödelmarkt mit Autofrühling auf den Marktplatz in Klingentha
 l\nvon 10.00 - 16.00Uhr  Trödelmarkt\nvon 10.00 - 18.00 Uhr Autofrühlin
 g\nAufbau ab 7.30Uhr\nWer mit machen möchte gerne melden.Tel.:0173/894668
 0
LOCATION:Kirchstraße 30 08248 
SUMMARY:Trödelmarkt Klingenthal und Autofrühling
END:VEVENT
END:VCALENDAR
