BEGIN:VCALENDAR
VERSION:2.0
PRODID:icalendar-ruby
CALSCALE:GREGORIAN
BEGIN:VEVENT
DTSTAMP:20260421T093047Z
UID:68847dbe-6a8a-4788-9477-416549d4eb71
DTSTART:20260621T110000
DTEND:20260621T160000
DESCRIPTION:NEU NEU NEU NEU\nInfos unter: www.richter-troedelmarkte.de\n \
 nPlatzvergabe am Veranstaltungstag ab ca. 6.00 Uhr\nKeine Platzreservierun
 gen möglich.\nTrödel laufender Meter: 11 €
LOCATION:Theodor-Heuss-Straße 78-89 47167 Hamborn
SUMMARY:Trödelmarkt Hornbach Duisburg-Neumühl
END:VEVENT
END:VCALENDAR
