BEGIN:VCALENDAR
VERSION:2.0
PRODID:icalendar-ruby
CALSCALE:GREGORIAN
BEGIN:VEVENT
DTSTAMP:20260421T082025Z
UID:d7d4bddf-423d-4c03-8f7e-a4aad57cda0b
DTSTART:20260913T110000
DTEND:20260913T160000
DESCRIPTION:NEU NEU NEU NEU\nInfos unter: www.richter-troedelmarkte.de\n \
 nPlatzvergabe am Veranstaltungstag ab ca. 6.00 Uhr\nKeine Platzreservierun
 gen möglich.\nTrödel laufender Meter: 11 €
LOCATION:Theodor-Heuss-Straße 78-89 47167 Hamborn
SUMMARY:Trödelmarkt Hornbach Duisburg-Neumühl
END:VEVENT
END:VCALENDAR
