BEGIN:VCALENDAR
VERSION:2.0
PRODID:icalendar-ruby
CALSCALE:GREGORIAN
BEGIN:VEVENT
DTSTAMP:20260421T074838Z
UID:202b12e2-dab4-4322-99ad-598857dc79b0
DTSTART:20261018T110000
DTEND:20261018T160000
DESCRIPTION:NEU NEU NEU NEU\nInfos unter: www.richter-troedelmarkte.de\n \
 nPlatzvergabe am Veranstaltungstag ab ca. 6.00 Uhr\nKeine Platzreservierun
 gen möglich.\nTrödel laufender Meter: 11 €
LOCATION:Theodor-Heuss-Straße 78-89 47167 Hamborn
SUMMARY:Trödelmarkt Hornbach Duisburg-Neumühl
END:VEVENT
END:VCALENDAR
